BEGIN:VCALENDAR
VERSION:2.0
PRODID:-//District of Clearwater - ECPv6.15.20//NONSGML v1.0//EN
CALSCALE:GREGORIAN
METHOD:PUBLISH
X-ORIGINAL-URL:https://www.districtofclearwater.com
X-WR-CALDESC:Events for District of Clearwater
REFRESH-INTERVAL;VALUE=DURATION:PT1H
X-Robots-Tag:noindex
X-PUBLISHED-TTL:PT1H
BEGIN:VTIMEZONE
TZID:America/Vancouver
BEGIN:DAYLIGHT
TZOFFSETFROM:-0800
TZOFFSETTO:-0700
TZNAME:PDT
DTSTART:20200308T100000
END:DAYLIGHT
BEGIN:STANDARD
TZOFFSETFROM:-0700
TZOFFSETTO:-0800
TZNAME:PST
DTSTART:20201101T090000
END:STANDARD
BEGIN:DAYLIGHT
TZOFFSETFROM:-0800
TZOFFSETTO:-0700
TZNAME:PDT
DTSTART:20210314T100000
END:DAYLIGHT
BEGIN:STANDARD
TZOFFSETFROM:-0700
TZOFFSETTO:-0800
TZNAME:PST
DTSTART:20211107T090000
END:STANDARD
BEGIN:DAYLIGHT
TZOFFSETFROM:-0800
TZOFFSETTO:-0700
TZNAME:PDT
DTSTART:20220313T100000
END:DAYLIGHT
BEGIN:STANDARD
TZOFFSETFROM:-0700
TZOFFSETTO:-0800
TZNAME:PST
DTSTART:20221106T090000
END:STANDARD
END:VTIMEZONE
BEGIN:VEVENT
DTSTART;TZID=America/Vancouver:20211203T120000
DTEND;TZID=America/Vancouver:20211203T130000
DTSTAMP:20260421T021759
CREATED:20211030T013854Z
LAST-MODIFIED:20211030T013854Z
UID:11173-1638532800-1638536400@www.districtofclearwater.com
SUMMARY:Soup Kettle
DESCRIPTION:
URL:https://www.districtofclearwater.com/event/soup-kettle-31/
LOCATION:Dutch Lake Community Centre\, 209 Dutch Lake Rd\, Clearwater\, BC\, V0E1N1\, Canada
CATEGORIES:Community Events
END:VEVENT
BEGIN:VEVENT
DTSTART;TZID=America/Vancouver:20211203T163000
DTEND;TZID=America/Vancouver:20211203T180000
DTSTAMP:20260421T021759
CREATED:20211203T040648Z
LAST-MODIFIED:20211203T040648Z
UID:11438-1638549000-1638554400@www.districtofclearwater.com
SUMMARY:Family Skating
DESCRIPTION:Family Skating is free of charge thanks to generous sponsors. Thank you to Interior Savings Credit Union for this week’s ice time. \nHelmets are mandatory\, rental skates available for free. \nhttp://wp194225.wpdns.ca/this-weekend-at-the-rink-december-3-5-2021/
URL:https://www.districtofclearwater.com/event/family-skating-97/
LOCATION:North Thompson Sportsplex\, 428 Murtle Crescent\, Clearwater\, BC\, Canada
CATEGORIES:Community Events
END:VEVENT
BEGIN:VEVENT
DTSTART;TZID=America/Vancouver:20211203T170000
DTEND;TZID=America/Vancouver:20211203T210000
DTSTAMP:20260421T021800
CREATED:20211203T031106Z
LAST-MODIFIED:20211203T031106Z
UID:11429-1638550800-1638565200@www.districtofclearwater.com
SUMMARY:Christmas Market
DESCRIPTION:Admission: $2. All Welcome.
URL:https://www.districtofclearwater.com/event/christmas-market/
LOCATION:Clearwater Ski Hill\, 566 Dunn Lake Road\, Clearwater\, BC\, Canada
CATEGORIES:Community Events
END:VEVENT
BEGIN:VEVENT
DTSTART;TZID=America/Vancouver:20211203T183000
DTEND;TZID=America/Vancouver:20211203T200000
DTSTAMP:20260421T021800
CREATED:20211202T025459Z
LAST-MODIFIED:20211203T040459Z
UID:11418-1638556200-1638561600@www.districtofclearwater.com
SUMMARY:Minor Hockey: U13 Home Tournament
DESCRIPTION:http://wp194225.wpdns.ca/this-weekend-at-the-rink-december-3-5-2021/
URL:https://www.districtofclearwater.com/event/minor-hockey-u13-home-tournament/
LOCATION:North Thompson Sportsplex\, 428 Murtle Crescent\, Clearwater\, BC\, Canada
CATEGORIES:Community Events
END:VEVENT
END:VCALENDAR