BEGIN:VCALENDAR
VERSION:2.0
PRODID:-//District of Clearwater - ECPv6.15.12.2//NONSGML v1.0//EN
CALSCALE:GREGORIAN
METHOD:PUBLISH
X-ORIGINAL-URL:https://www.districtofclearwater.com
X-WR-CALDESC:Events for District of Clearwater
REFRESH-INTERVAL;VALUE=DURATION:PT1H
X-Robots-Tag:noindex
X-PUBLISHED-TTL:PT1H
BEGIN:VTIMEZONE
TZID:America/Vancouver
BEGIN:DAYLIGHT
TZOFFSETFROM:-0800
TZOFFSETTO:-0700
TZNAME:PDT
DTSTART:20220313T100000
END:DAYLIGHT
BEGIN:STANDARD
TZOFFSETFROM:-0700
TZOFFSETTO:-0800
TZNAME:PST
DTSTART:20221106T090000
END:STANDARD
BEGIN:DAYLIGHT
TZOFFSETFROM:-0800
TZOFFSETTO:-0700
TZNAME:PDT
DTSTART:20230312T100000
END:DAYLIGHT
BEGIN:STANDARD
TZOFFSETFROM:-0700
TZOFFSETTO:-0800
TZNAME:PST
DTSTART:20231105T090000
END:STANDARD
BEGIN:DAYLIGHT
TZOFFSETFROM:-0800
TZOFFSETTO:-0700
TZNAME:PDT
DTSTART:20240310T100000
END:DAYLIGHT
BEGIN:STANDARD
TZOFFSETFROM:-0700
TZOFFSETTO:-0800
TZNAME:PST
DTSTART:20241103T090000
END:STANDARD
END:VTIMEZONE
BEGIN:VEVENT
DTSTART;VALUE=DATE:20230203
DTEND;VALUE=DATE:20230206
DTSTAMP:20260420T033611
CREATED:20230124T034209Z
LAST-MODIFIED:20230124T034209Z
UID:13794-1675382400-1675641599@www.districtofclearwater.com
SUMMARY:U13 Tournament
DESCRIPTION:
URL:https://www.districtofclearwater.com/event/u13-tournament/
LOCATION:North Thompson Sportsplex\, 428 Murtle Crescent\, Clearwater\, BC\, Canada
CATEGORIES:Community Events,Recreation,Youth
END:VEVENT
BEGIN:VEVENT
DTSTART;TZID=America/Vancouver:20230205T023000
DTEND;TZID=America/Vancouver:20230205T160000
DTSTAMP:20260420T033611
CREATED:20230124T040756Z
LAST-MODIFIED:20230124T040756Z
UID:13835-1675564200-1675612800@www.districtofclearwater.com
SUMMARY:U13 Tournament Finals
DESCRIPTION:
URL:https://www.districtofclearwater.com/event/u13-tournament-finals/
LOCATION:North Thompson Sportsplex\, 428 Murtle Crescent\, Clearwater\, BC\, Canada
CATEGORIES:Community Events,Recreation,Youth
END:VEVENT
BEGIN:VEVENT
DTSTART;TZID=America/Vancouver:20230205T073000
DTEND;TZID=America/Vancouver:20230205T090000
DTSTAMP:20260420T033611
CREATED:20230124T035743Z
LAST-MODIFIED:20230124T035743Z
UID:13824-1675582200-1675587600@www.districtofclearwater.com
SUMMARY:U11 Ice Hawks v. WL Oreos
DESCRIPTION:
URL:https://www.districtofclearwater.com/event/u11-ice-hawks-v-wl-oreos/
LOCATION:North Thompson Sportsplex\, 428 Murtle Crescent\, Clearwater\, BC\, Canada
CATEGORIES:Community Events,Recreation,Youth
END:VEVENT
BEGIN:VEVENT
DTSTART;TZID=America/Vancouver:20230205T091500
DTEND;TZID=America/Vancouver:20230205T104500
DTSTAMP:20260420T033611
CREATED:20230124T035906Z
LAST-MODIFIED:20230124T035906Z
UID:13826-1675588500-1675593900@www.districtofclearwater.com
SUMMARY:U13 Ice Hawks v. Vernon Cobras
DESCRIPTION:
URL:https://www.districtofclearwater.com/event/u13-ice-hawks-v-vernon-cobras/
LOCATION:North Thompson Sportsplex\, 428 Murtle Crescent\, Clearwater\, BC\, Canada
CATEGORIES:Community Events,Recreation,Youth
END:VEVENT
BEGIN:VEVENT
DTSTART;TZID=America/Vancouver:20230205T091500
DTEND;TZID=America/Vancouver:20230205T104500
DTSTAMP:20260420T033611
CREATED:20230124T040056Z
LAST-MODIFIED:20230124T040056Z
UID:13828-1675588500-1675593900@www.districtofclearwater.com
SUMMARY:U13 Ice Hawks v. Vernon Cobras
DESCRIPTION:
URL:https://www.districtofclearwater.com/event/u13-ice-hawks-v-vernon-cobras-2/
LOCATION:North Thompson Sportsplex\, 428 Murtle Crescent\, Clearwater\, BC\, Canada
CATEGORIES:Community Events,Recreation,Youth
END:VEVENT
BEGIN:VEVENT
DTSTART;TZID=America/Vancouver:20230205T110000
DTEND;TZID=America/Vancouver:20230205T123000
DTSTAMP:20260420T033611
CREATED:20230124T040518Z
LAST-MODIFIED:20230124T040518Z
UID:13830-1675594800-1675600200@www.districtofclearwater.com
SUMMARY:Phantoms v. Mighty Ducks
DESCRIPTION:
URL:https://www.districtofclearwater.com/event/u13-ice-hawks-v-vernon-cobras-2-2/
LOCATION:North Thompson Sportsplex\, 428 Murtle Crescent\, Clearwater\, BC\, Canada
CATEGORIES:Community Events,Recreation,Youth
END:VEVENT
BEGIN:VEVENT
DTSTART;TZID=America/Vancouver:20230205T124500
DTEND;TZID=America/Vancouver:20230205T141500
DTSTAMP:20260420T033611
CREATED:20230124T040655Z
LAST-MODIFIED:20230124T040706Z
UID:13832-1675601100-1675606500@www.districtofclearwater.com
SUMMARY:U11 Ice Hawks v. 100 Mile
DESCRIPTION:
URL:https://www.districtofclearwater.com/event/u11-ice-hawks-c-100-mile/
LOCATION:North Thompson Sportsplex\, 428 Murtle Crescent\, Clearwater\, BC\, Canada
CATEGORIES:Community Events,Recreation,Youth
END:VEVENT
BEGIN:VEVENT
DTSTART;TZID=America/Vancouver:20230205T161500
DTEND;TZID=America/Vancouver:20230205T173000
DTSTAMP:20260420T033611
CREATED:20230124T034642Z
LAST-MODIFIED:20230124T034642Z
UID:13804-1675613700-1675618200@www.districtofclearwater.com
SUMMARY:Family Skating Sponsored by OTL Construction
DESCRIPTION:
URL:https://www.districtofclearwater.com/event/family-skating-sponsored-by-otl-construction-2/
LOCATION:North Thompson Sportsplex\, 428 Murtle Crescent\, Clearwater\, BC\, Canada
CATEGORIES:Community Events,Recreation,Youth
END:VEVENT
BEGIN:VEVENT
DTSTART;TZID=America/Vancouver:20230205T190000
DTEND;TZID=America/Vancouver:20230205T203000
DTSTAMP:20260420T033611
CREATED:20230124T034746Z
LAST-MODIFIED:20230124T034746Z
UID:13808-1675623600-1675629000@www.districtofclearwater.com
SUMMARY:Adult Drop-in Hockey
DESCRIPTION:
URL:https://www.districtofclearwater.com/event/adult-drop-in-hockey-78-2/
LOCATION:North Thompson Sportsplex\, 428 Murtle Crescent\, Clearwater\, BC\, Canada
CATEGORIES:Community Events,Recreation,Youth
END:VEVENT
END:VCALENDAR