BEGIN:VCALENDAR
VERSION:2.0
PRODID:-//District of Clearwater - ECPv6.15.20//NONSGML v1.0//EN
CALSCALE:GREGORIAN
METHOD:PUBLISH
X-ORIGINAL-URL:https://www.districtofclearwater.com
X-WR-CALDESC:Events for District of Clearwater
REFRESH-INTERVAL;VALUE=DURATION:PT1H
X-Robots-Tag:noindex
X-PUBLISHED-TTL:PT1H
BEGIN:VTIMEZONE
TZID:America/Vancouver
BEGIN:DAYLIGHT
TZOFFSETFROM:-0800
TZOFFSETTO:-0700
TZNAME:PDT
DTSTART:20210314T100000
END:DAYLIGHT
BEGIN:STANDARD
TZOFFSETFROM:-0700
TZOFFSETTO:-0800
TZNAME:PST
DTSTART:20211107T090000
END:STANDARD
BEGIN:DAYLIGHT
TZOFFSETFROM:-0800
TZOFFSETTO:-0700
TZNAME:PDT
DTSTART:20220313T100000
END:DAYLIGHT
BEGIN:STANDARD
TZOFFSETFROM:-0700
TZOFFSETTO:-0800
TZNAME:PST
DTSTART:20221106T090000
END:STANDARD
BEGIN:DAYLIGHT
TZOFFSETFROM:-0800
TZOFFSETTO:-0700
TZNAME:PDT
DTSTART:20230312T100000
END:DAYLIGHT
BEGIN:STANDARD
TZOFFSETFROM:-0700
TZOFFSETTO:-0800
TZNAME:PST
DTSTART:20231105T090000
END:STANDARD
BEGIN:DAYLIGHT
TZOFFSETFROM:-0800
TZOFFSETTO:-0700
TZNAME:PDT
DTSTART:20240310T100000
END:DAYLIGHT
BEGIN:STANDARD
TZOFFSETFROM:-0700
TZOFFSETTO:-0800
TZNAME:PST
DTSTART:20241103T090000
END:STANDARD
END:VTIMEZONE
BEGIN:VEVENT
DTSTART;TZID=America/Vancouver:20220310T183000
DTEND;TZID=America/Vancouver:20220310T210000
DTSTAMP:20260421T171901
CREATED:20220307T161220Z
LAST-MODIFIED:20220307T161220Z
UID:12180-1646937000-1646946000@www.districtofclearwater.com
SUMMARY:Joe Nolan at the Ski Hill
DESCRIPTION:
URL:https://www.districtofclearwater.com/event/joe-nolan-at-the-ski-hill/
LOCATION:Clearwater Ski Hill\, 566 Dunn Lake Road\, Clearwater\, BC\, Canada
CATEGORIES:Community Events
END:VEVENT
BEGIN:VEVENT
DTSTART;TZID=America/Vancouver:20220311T120000
DTEND;TZID=America/Vancouver:20220311T130000
DTSTAMP:20260421T171902
CREATED:20220302T030830Z
LAST-MODIFIED:20220302T030830Z
UID:12113-1647000000-1647003600@www.districtofclearwater.com
SUMMARY:Soup Kettle
DESCRIPTION:
URL:https://www.districtofclearwater.com/event/soup-kettle-43/
LOCATION:Dutch Lake Community Centre\, 209 Dutch Lake Rd\, Clearwater\, BC\, V0E1N1\, Canada
CATEGORIES:Community Events
END:VEVENT
BEGIN:VEVENT
DTSTART;TZID=America/Vancouver:20220311T180000
DTEND;TZID=America/Vancouver:20220311T200000
DTSTAMP:20260421T171902
CREATED:20220302T031901Z
LAST-MODIFIED:20220302T031901Z
UID:12155-1647021600-1647028800@www.districtofclearwater.com
SUMMARY:Legion Darts
DESCRIPTION:
URL:https://www.districtofclearwater.com/event/legion-darts-62/
LOCATION:Royal Canadian Legion\, 257 Glen Rd\, Clearwater\, BC\, V0E1N1\, Canada
CATEGORIES:Community Events
END:VEVENT
BEGIN:VEVENT
DTSTART;TZID=America/Vancouver:20220312T100000
DTEND;TZID=America/Vancouver:20220312T120000
DTSTAMP:20260421T171902
CREATED:20220216T030409Z
LAST-MODIFIED:20220216T030409Z
UID:11996-1647079200-1647086400@www.districtofclearwater.com
SUMMARY:HELLO SPRING Market
DESCRIPTION:Everyone Welcome\nJams\, herbs\, fresh baking\, sign\, garden decor and more.
URL:https://www.districtofclearwater.com/event/hello-spring-market/
LOCATION:Elks Hall
CATEGORIES:Community Events
END:VEVENT
BEGIN:VEVENT
DTSTART;TZID=America/Vancouver:20220312T170000
DTEND;TZID=America/Vancouver:20220312T180000
DTSTAMP:20260421T171902
CREATED:20220307T162613Z
LAST-MODIFIED:20220307T162613Z
UID:12184-1647104400-1647108000@www.districtofclearwater.com
SUMMARY:Legion Take Out Dinner
DESCRIPTION:
URL:https://www.districtofclearwater.com/event/legion-take-out-dinner-11/
LOCATION:Royal Canadian Legion\, 257 Glen Rd\, Clearwater\, BC\, V0E1N1\, Canada
CATEGORIES:Community Events
END:VEVENT
BEGIN:VEVENT
DTSTART;TZID=America/Vancouver:20220314T180000
DTEND;TZID=America/Vancouver:20220314T190000
DTSTAMP:20260421T171902
CREATED:20220125T014814Z
LAST-MODIFIED:20220125T014814Z
UID:11824-1647280800-1647284400@www.districtofclearwater.com
SUMMARY:Circuit Training: S2
DESCRIPTION:
URL:https://www.districtofclearwater.com/event/circuit-training-s2-3/
LOCATION:Dutch Lake Community Centre\, 209 Dutch Lake Rd\, Clearwater\, BC\, V0E1N1\, Canada
CATEGORIES:Community Events
END:VEVENT
BEGIN:VEVENT
DTSTART;TZID=America/Vancouver:20220314T190000
DTEND;TZID=America/Vancouver:20220314T203000
DTSTAMP:20260421T171902
CREATED:20220314T163228Z
LAST-MODIFIED:20220314T163228Z
UID:12207-1647284400-1647289800@www.districtofclearwater.com
SUMMARY:Wells Gray Curling Club Open House
DESCRIPTION:
URL:https://www.districtofclearwater.com/event/wells-gray-curling-club-open-house/
LOCATION:North Thompson Sportsplex\, 428 Murtle Crescent\, Clearwater\, BC\, Canada
CATEGORIES:Community Events
END:VEVENT
BEGIN:VEVENT
DTSTART;TZID=America/Vancouver:20220315T100000
DTEND;TZID=America/Vancouver:20220315T120000
DTSTAMP:20260421T171902
CREATED:20220302T031009Z
LAST-MODIFIED:20220302T031009Z
UID:12122-1647338400-1647345600@www.districtofclearwater.com
SUMMARY:Parents& Preschool/ Homeschool Skating
DESCRIPTION:Helmets mandatory\, rental skates available for free. ***COVID protocols apply; please wear a mask.
URL:https://www.districtofclearwater.com/event/parents-preschool-homeschool-skating-15/
LOCATION:North Thompson Sportsplex\, 428 Murtle Crescent\, Clearwater\, BC\, Canada
CATEGORIES:Community Events
END:VEVENT
BEGIN:VEVENT
DTSTART;TZID=America/Vancouver:20220316T120000
DTEND;TZID=America/Vancouver:20220316T150000
DTSTAMP:20260421T171902
CREATED:20220302T030654Z
LAST-MODIFIED:20220302T030654Z
UID:12105-1647432000-1647442800@www.districtofclearwater.com
SUMMARY:Legion Crib
DESCRIPTION:
URL:https://www.districtofclearwater.com/event/legion-crib-85/
LOCATION:Royal Canadian Legion\, 257 Glen Rd\, Clearwater\, BC\, V0E1N1\, Canada
CATEGORIES:Community Events
END:VEVENT
BEGIN:VEVENT
DTSTART;TZID=America/Vancouver:20220318T120000
DTEND;TZID=America/Vancouver:20220318T130000
DTSTAMP:20260421T171902
CREATED:20220302T030841Z
LAST-MODIFIED:20220302T030841Z
UID:12115-1647604800-1647608400@www.districtofclearwater.com
SUMMARY:Soup Kettle
DESCRIPTION:
URL:https://www.districtofclearwater.com/event/soup-kettle-44/
LOCATION:Dutch Lake Community Centre\, 209 Dutch Lake Rd\, Clearwater\, BC\, V0E1N1\, Canada
CATEGORIES:Community Events
END:VEVENT
BEGIN:VEVENT
DTSTART;TZID=America/Vancouver:20220318T180000
DTEND;TZID=America/Vancouver:20220318T200000
DTSTAMP:20260421T171902
CREATED:20220302T031914Z
LAST-MODIFIED:20220302T031914Z
UID:12157-1647626400-1647633600@www.districtofclearwater.com
SUMMARY:Legion Darts
DESCRIPTION:
URL:https://www.districtofclearwater.com/event/legion-darts-63/
LOCATION:Royal Canadian Legion\, 257 Glen Rd\, Clearwater\, BC\, V0E1N1\, Canada
CATEGORIES:Community Events
END:VEVENT
BEGIN:VEVENT
DTSTART;TZID=America/Vancouver:20220319T120000
DTEND;TZID=America/Vancouver:20220319T153000
DTSTAMP:20260421T171902
CREATED:20220314T161739Z
LAST-MODIFIED:20220314T161739Z
UID:12201-1647691200-1647703800@www.districtofclearwater.com
SUMMARY:Legion Meat Draw
DESCRIPTION:
URL:https://www.districtofclearwater.com/event/legion-meat-draw-21/
LOCATION:Royal Canadian Legion\, 257 Glen Rd\, Clearwater\, BC\, V0E1N1\, Canada
CATEGORIES:Community Events
END:VEVENT
BEGIN:VEVENT
DTSTART;TZID=America/Vancouver:20220321T180000
DTEND;TZID=America/Vancouver:20220321T190000
DTSTAMP:20260421T171902
CREATED:20220125T014825Z
LAST-MODIFIED:20220125T014825Z
UID:11826-1647885600-1647889200@www.districtofclearwater.com
SUMMARY:Circuit Training: S2
DESCRIPTION:
URL:https://www.districtofclearwater.com/event/circuit-training-s2-4/
LOCATION:Dutch Lake Community Centre\, 209 Dutch Lake Rd\, Clearwater\, BC\, V0E1N1\, Canada
CATEGORIES:Community Events
END:VEVENT
BEGIN:VEVENT
DTSTART;TZID=America/Vancouver:20220323T120000
DTEND;TZID=America/Vancouver:20220323T150000
DTSTAMP:20260421T171902
CREATED:20220302T030708Z
LAST-MODIFIED:20220302T030708Z
UID:12107-1648036800-1648047600@www.districtofclearwater.com
SUMMARY:Legion Crib
DESCRIPTION:
URL:https://www.districtofclearwater.com/event/legion-crib-86/
LOCATION:Royal Canadian Legion\, 257 Glen Rd\, Clearwater\, BC\, V0E1N1\, Canada
CATEGORIES:Community Events
END:VEVENT
BEGIN:VEVENT
DTSTART;TZID=America/Vancouver:20220325T120000
DTEND;TZID=America/Vancouver:20220325T130000
DTSTAMP:20260421T171902
CREATED:20220302T030852Z
LAST-MODIFIED:20220302T030852Z
UID:12117-1648209600-1648213200@www.districtofclearwater.com
SUMMARY:Soup Kettle
DESCRIPTION:
URL:https://www.districtofclearwater.com/event/soup-kettle-45/
LOCATION:Dutch Lake Community Centre\, 209 Dutch Lake Rd\, Clearwater\, BC\, V0E1N1\, Canada
CATEGORIES:Community Events
END:VEVENT
BEGIN:VEVENT
DTSTART;TZID=America/Vancouver:20220325T180000
DTEND;TZID=America/Vancouver:20220325T200000
DTSTAMP:20260421T171902
CREATED:20220302T031929Z
LAST-MODIFIED:20220302T031929Z
UID:12159-1648231200-1648238400@www.districtofclearwater.com
SUMMARY:Legion Darts
DESCRIPTION:
URL:https://www.districtofclearwater.com/event/legion-darts-64/
LOCATION:Royal Canadian Legion\, 257 Glen Rd\, Clearwater\, BC\, V0E1N1\, Canada
CATEGORIES:Community Events
END:VEVENT
BEGIN:VEVENT
DTSTART;TZID=America/Vancouver:20220328T180000
DTEND;TZID=America/Vancouver:20220328T190000
DTSTAMP:20260421T171902
CREATED:20220125T014836Z
LAST-MODIFIED:20220125T014836Z
UID:11828-1648490400-1648494000@www.districtofclearwater.com
SUMMARY:Circuit Training: S2
DESCRIPTION:
URL:https://www.districtofclearwater.com/event/circuit-training-s2-5/
LOCATION:Dutch Lake Community Centre\, 209 Dutch Lake Rd\, Clearwater\, BC\, V0E1N1\, Canada
CATEGORIES:Community Events
END:VEVENT
BEGIN:VEVENT
DTSTART;TZID=America/Vancouver:20220330T120000
DTEND;TZID=America/Vancouver:20220330T150000
DTSTAMP:20260421T171902
CREATED:20220302T030722Z
LAST-MODIFIED:20220302T030722Z
UID:12109-1648641600-1648652400@www.districtofclearwater.com
SUMMARY:Legion Crib
DESCRIPTION:
URL:https://www.districtofclearwater.com/event/legion-crib-87/
LOCATION:Royal Canadian Legion\, 257 Glen Rd\, Clearwater\, BC\, V0E1N1\, Canada
CATEGORIES:Community Events
END:VEVENT
BEGIN:VEVENT
DTSTART;TZID=America/Vancouver:20220401T180000
DTEND;TZID=America/Vancouver:20220401T200000
DTSTAMP:20260421T171902
CREATED:20220302T031942Z
LAST-MODIFIED:20220302T031942Z
UID:12161-1648836000-1648843200@www.districtofclearwater.com
SUMMARY:Legion Darts
DESCRIPTION:
URL:https://www.districtofclearwater.com/event/legion-darts-65/
LOCATION:Royal Canadian Legion\, 257 Glen Rd\, Clearwater\, BC\, V0E1N1\, Canada
CATEGORIES:Community Events
END:VEVENT
BEGIN:VEVENT
DTSTART;TZID=America/Vancouver:20220402T100000
DTEND;TZID=America/Vancouver:20220402T130000
DTSTAMP:20260421T171902
CREATED:20220314T162901Z
LAST-MODIFIED:20220314T162901Z
UID:12204-1648893600-1648904400@www.districtofclearwater.com
SUMMARY:Seedy Saturday
DESCRIPTION:
URL:https://www.districtofclearwater.com/event/seedy-saturday/
LOCATION:Dutch Lake Community Centre\, 209 Dutch Lake Rd\, Clearwater\, BC\, V0E1N1\, Canada
CATEGORIES:Community Events
END:VEVENT
BEGIN:VEVENT
DTSTART;TZID=America/Vancouver:20220404T180000
DTEND;TZID=America/Vancouver:20220404T190000
DTSTAMP:20260421T171902
CREATED:20220125T014852Z
LAST-MODIFIED:20220125T014852Z
UID:11830-1649095200-1649098800@www.districtofclearwater.com
SUMMARY:Circuit Training: S2
DESCRIPTION:
URL:https://www.districtofclearwater.com/event/circuit-training-s2-6/
LOCATION:Dutch Lake Community Centre\, 209 Dutch Lake Rd\, Clearwater\, BC\, V0E1N1\, Canada
CATEGORIES:Community Events
END:VEVENT
BEGIN:VEVENT
DTSTART;TZID=America/Vancouver:20220406T120000
DTEND;TZID=America/Vancouver:20220406T150000
DTSTAMP:20260421T171902
CREATED:20220302T030738Z
LAST-MODIFIED:20220302T030738Z
UID:12111-1649246400-1649257200@www.districtofclearwater.com
SUMMARY:Legion Crib
DESCRIPTION:
URL:https://www.districtofclearwater.com/event/legion-crib-88/
LOCATION:Royal Canadian Legion\, 257 Glen Rd\, Clearwater\, BC\, V0E1N1\, Canada
CATEGORIES:Community Events
END:VEVENT
BEGIN:VEVENT
DTSTART;TZID=America/Vancouver:20220917T100000
DTEND;TZID=America/Vancouver:20220917T130000
DTSTAMP:20260421T171902
CREATED:20220824T211236Z
LAST-MODIFIED:20220826T170430Z
UID:12635-1663408800-1663419600@www.districtofclearwater.com
SUMMARY:Try Hockey Camp
DESCRIPTION:
URL:https://www.districtofclearwater.com/event/try-hockey-camp/
LOCATION:North Thompson Sportsplex\, 428 Murtle Crescent\, Clearwater\, BC\, Canada
CATEGORIES:Community Events
END:VEVENT
BEGIN:VEVENT
DTSTART;TZID=America/Vancouver:20230123T100000
DTEND;TZID=America/Vancouver:20230123T110000
DTSTAMP:20260421T171902
CREATED:20230111T022309Z
LAST-MODIFIED:20230111T022309Z
UID:13438-1674468000-1674471600@www.districtofclearwater.com
SUMMARY:Mom & Baby Walk @ Splash Park
DESCRIPTION:Part of Family Literacy Week/Unplug & Play!
URL:https://www.districtofclearwater.com/event/mom-baby-walk-splash-park/
LOCATION:Dragonfly Splash Park
CATEGORIES:Community Events,Unplug & Play
END:VEVENT
BEGIN:VEVENT
DTSTART;TZID=America/Vancouver:20230123T120000
DTEND;TZID=America/Vancouver:20230123T130000
DTSTAMP:20260421T171902
CREATED:20230111T022428Z
LAST-MODIFIED:20230111T022428Z
UID:13440-1674475200-1674478800@www.districtofclearwater.com
SUMMARY:Tumble Bumble
DESCRIPTION:Part of Family Literacy Week/Unplug & Play
URL:https://www.districtofclearwater.com/event/tumble-bumble/
LOCATION:Raft River Elementary School\, 801 Clearwater Village Rd\, BC\, V0E 1N0\, Canada
CATEGORIES:Community Events,Unplug & Play
END:VEVENT
BEGIN:VEVENT
DTSTART;TZID=America/Vancouver:20230123T150000
DTEND;TZID=America/Vancouver:20230123T170000
DTSTAMP:20260421T171902
CREATED:20230111T022516Z
LAST-MODIFIED:20230111T022516Z
UID:13442-1674486000-1674493200@www.districtofclearwater.com
SUMMARY:Drop-in Painting
DESCRIPTION:Part of Family Literacy Week/Unplug & Play
URL:https://www.districtofclearwater.com/event/drop-in-painting/
LOCATION:Dutch Lake Community Centre (DLCC)\, 209 Dutch Lake Road\, Clearwater\, B.C.\, V0E 1N2\, Canada
CATEGORIES:Community Events,Unplug & Play
END:VEVENT
BEGIN:VEVENT
DTSTART;TZID=America/Vancouver:20230124T110000
DTEND;TZID=America/Vancouver:20230124T120000
DTSTAMP:20260421T171902
CREATED:20230111T022727Z
LAST-MODIFIED:20230111T022727Z
UID:13444-1674558000-1674561600@www.districtofclearwater.com
SUMMARY:Puppet Show
DESCRIPTION:Part of Family Literacy Week/Unplug & Play
URL:https://www.districtofclearwater.com/event/puppet-show/
LOCATION:Clearwater Library\, 422 Murtle Crescent\, Clearwater\, BC\, V0E 1N1\, Canada
CATEGORIES:Community Events,Unplug & Play
END:VEVENT
BEGIN:VEVENT
DTSTART;TZID=America/Vancouver:20230124T150000
DTEND;TZID=America/Vancouver:20230124T160000
DTSTAMP:20260421T171902
CREATED:20230111T022822Z
LAST-MODIFIED:20230111T022822Z
UID:13446-1674572400-1674576000@www.districtofclearwater.com
SUMMARY:Maker Club
DESCRIPTION:Part of Family Literacy Week/Unplug & Play
URL:https://www.districtofclearwater.com/event/maker-club-2/
LOCATION:Clearwater Library\, 422 Murtle Crescent\, Clearwater\, BC\, V0E 1N1\, Canada
CATEGORIES:Community Events,Unplug & Play
END:VEVENT
BEGIN:VEVENT
DTSTART;TZID=America/Vancouver:20230124T180000
DTEND;TZID=America/Vancouver:20230124T180000
DTSTAMP:20260421T171902
CREATED:20230111T022947Z
LAST-MODIFIED:20230111T022947Z
UID:13448-1674583200-1674583200@www.districtofclearwater.com
SUMMARY:Magic Show
DESCRIPTION:Part of Family Literacy Week/Unplug & Play
URL:https://www.districtofclearwater.com/event/magic-show/
LOCATION:Dutch Lake Community Centre (DLCC)\, 209 Dutch Lake Road\, Clearwater\, B.C.\, V0E 1N2\, Canada
CATEGORIES:Community Events,Unplug & Play
END:VEVENT
BEGIN:VEVENT
DTSTART;TZID=America/Vancouver:20230125T093000
DTEND;TZID=America/Vancouver:20230125T113000
DTSTAMP:20260421T171902
CREATED:20230111T023103Z
LAST-MODIFIED:20230111T023103Z
UID:13450-1674639000-1674646200@www.districtofclearwater.com
SUMMARY:Vavenby Playgroup
DESCRIPTION:Part of Family Literacy Week/Unplug & Play
URL:https://www.districtofclearwater.com/event/vavenby-playgroup/
LOCATION:Vavenby Elementary School
CATEGORIES:Community Events,Unplug & Play
END:VEVENT
END:VCALENDAR